BEGIN:VCALENDAR
VERSION:2.0
PRODID:-//Kamer Muziek Festival Hoorn - ECPv6.15.20//NONSGML v1.0//EN
CALSCALE:GREGORIAN
METHOD:PUBLISH
X-WR-CALNAME:Kamer Muziek Festival Hoorn
X-ORIGINAL-URL:https://www.kamermuziekfestivalhoorn.nl
X-WR-CALDESC:Evenementen voor Kamer Muziek Festival Hoorn
REFRESH-INTERVAL;VALUE=DURATION:PT1H
X-Robots-Tag:noindex
X-PUBLISHED-TTL:PT1H
BEGIN:VTIMEZONE
TZID:Europe/Amsterdam
BEGIN:DAYLIGHT
TZOFFSETFROM:+0100
TZOFFSETTO:+0200
TZNAME:CEST
DTSTART:20240331T010000
END:DAYLIGHT
BEGIN:STANDARD
TZOFFSETFROM:+0200
TZOFFSETTO:+0100
TZNAME:CET
DTSTART:20241027T010000
END:STANDARD
BEGIN:DAYLIGHT
TZOFFSETFROM:+0100
TZOFFSETTO:+0200
TZNAME:CEST
DTSTART:20250330T010000
END:DAYLIGHT
BEGIN:STANDARD
TZOFFSETFROM:+0200
TZOFFSETTO:+0100
TZNAME:CET
DTSTART:20251026T010000
END:STANDARD
BEGIN:DAYLIGHT
TZOFFSETFROM:+0100
TZOFFSETTO:+0200
TZNAME:CEST
DTSTART:20260329T010000
END:DAYLIGHT
BEGIN:STANDARD
TZOFFSETFROM:+0200
TZOFFSETTO:+0100
TZNAME:CET
DTSTART:20261025T010000
END:STANDARD
END:VTIMEZONE
BEGIN:VEVENT
DTSTART;TZID=Europe/Amsterdam:20251108T210000
DTEND;TZID=Europe/Amsterdam:20251108T233000
DTSTAMP:20260421T122228
CREATED:20250920T205708Z
LAST-MODIFIED:20251005T145127Z
UID:1959-1762635600-1762644600@www.kamermuziekfestivalhoorn.nl
SUMMARY:Late evening ligconcert – Dromen met Chopin
DESCRIPTION:Ervaar Chopins Nocturnes op een unieke manier: liggend luisteren en volledig ontspannen terwijl de muziek je omhult. Een bijzondere kans om de nacht en de klanken van Chopin op een intensieve\, serene manier te beleven. \n\nOver het concert\nVoor het eerst organiseert het Kamermuziekfestival Hoorn een ligconcert. De muziek komt op een andere\, diepere manier binnen door liggend op uw meegenomen matje of zittend op een stoel volledig ontspannen te luisteren.  Pianist Maurice Lammerts van Bueren selecteerde 14 van Chopins mooiste nocturnes\, die de sfeer en emoties van de nacht perfect weerspiegelen. \nNa zijn eerdere project met de integrale mazurka’s van Chopin\, richt Maurice zich nu volledig op deze meesterwerken\, die bijna twee uur durende complete nocturnes omvatten. Dit recital biedt een intieme en ontspannen beleving van een van de meest geliefde delen van Chopins oeuvre. \nIn de pauze wordt er een drankje met wat lekker geserveerd. \n\nPraktische informatie\n\nDatum & tijd: Zaterdag 8 november 2025\, 21.00 uur\nLocatie: The Saint\, Hoorn\nLet op: liggend luisteren mogelijk\, maar ook zittend kan volop genoten worden
URL:https://www.kamermuziekfestivalhoorn.nl/event/late-evening-ligconcert-dromen-met-chopin/
CATEGORIES:Kamermuziekfestival Hoorn 2025
ATTACH;FMTTYPE=image/jpeg:https://www.kamermuziekfestivalhoorn.nl/wp-content/uploads/IMG_2735.jpeg
END:VEVENT
BEGIN:VEVENT
DTSTART;TZID=Europe/Amsterdam:20251108T180000
DTEND;TZID=Europe/Amsterdam:20251108T190000
DTSTAMP:20260421T122228
CREATED:20250920T205332Z
LAST-MODIFIED:20251005T100809Z
UID:1956-1762624800-1762628400@www.kamermuziekfestivalhoorn.nl
SUMMARY:Theaterconcert – LIJF!
DESCRIPTION:Een indringende en grensverleggende soloperformance van Kayva van Gangelen\, waarin muziek\, technologie en lichamelijke herinnering samensmelten tot een unieke beleving. LIJF! daagt het publiek uit om anders te luisteren\, voelen en te ervaren wat het betekent om in een lichaam te leven. \n\nOnlangs ontvingen Perforator en Kayva voor de voorstelling LIJF! de Geneco Fair Practice Award 2025.  \n\nOver de voorstelling\nLIJF!  – Een electro-akoestische ode aan het vrouwelijk lichaam \nIn haar nieuwe solovoorstelling LIJF! maakt hoboïst en performer Kayva van Gangelen het vrouwenlijf tot een instrument van klank en herinnering. In wisselwerking met een ingenieus ontworpen kostuum met ingebouwde\, draadloze luidsprekers en sensoren\, dat reageert op beweging en aanraking\, brengt ze lichamelijke sensaties en herinneringen tot leven. Het resultaat is een muzikale\, poëtische en technisch verfijnde performance die het lichaam laat spreken waar woorden tekortschieten. De voorstelling raakt aan thema’s als lichamelijke autonomie\, de ervaring van andermans blik en de sporen van ongewenste aanraking. \nDe voorstelling kwam tot stand in samenwerking met regisseur Marijn van der Jagt\, componist Bec Plexus\, geluidskunstenaar/uitvinder Akim Moiseenkov en theatervormgevers Catharina Scholten en Sanne Lips. Het interactieve geluidssysteem werd ontwikkeld in nauwe samenwerking met Fedde ten Berge\, die het technische ontwerp en de software verzorgde\, en met Okke van Breemen\, die de 3D-behuizing ontwierp en het draagbare systeem assembleerde. De kennis voor dit systeem is grotendeels voortgekomen uit eerder onderzoek van Ten Berge. \n\nTeam & credits\n\nKayva van Gangelen – concept\, tekst\, spel\nMarijn van der Jagt – regie\nBec Plexus – compositie\, audioproductie\, live effecten\nAkim Moiseenkov – compositiebijdragen\, lichtobject ontwerp\nCatharina Scholten – decor\nSanne Lips – kostuum\nFedde ten Berge – technologie\, systeemontwikkeling\nOkke van Breemen – 3D-ontwerp elektronica behuizing en assemblage\nMichelle Vossen – textielsensor ontwerp\nTineke Hussaarts – stemopname Lijf FM\nGlenn Liebaut – marimba-opname\nJurre Wieman – geluidsontwerp\nJan Bolten – lichtontwerp\n\nMede mogelijk gemaakt door: Fonds Podiumkunsten\, Cultuurfonds\, Stichting Sec\, Stichting Zabawas\, Van den Berch van Heemstede Stichting\, Theater Het Pakhuis Hoorn\, Gemeente Hoorn \n\nPraktische informatie\n\nDatum & tijd: Zaterdag 8 november 2025\, 18.00 uur\nLocatie: Boterhal\, Hoorn
URL:https://www.kamermuziekfestivalhoorn.nl/event/theatraal-muziekconcert-lijf/
CATEGORIES:Kamermuziekfestival Hoorn 2025
END:VEVENT
BEGIN:VEVENT
DTSTART;TZID=Europe/Amsterdam:20251106T200000
DTEND;TZID=Europe/Amsterdam:20251106T220000
DTSTAMP:20260421T122228
CREATED:20250920T200142Z
LAST-MODIFIED:20250929T150647Z
UID:1928-1762459200-1762466400@www.kamermuziekfestivalhoorn.nl
SUMMARY:Openingsconcert – De hand van de Beer
DESCRIPTION:Een ontmoeting van grootmeesters: Carel Kraayenhof\, de bandoneónist die wereldfaam verwierf met Piazzolla’s Adiós Nonino\, treedt samen op met de eigenzinnige pianiste Mariëtta Petkova. Beiden zoeken de grenzen van hun instrument op\, in een programma waarin klassiek\, tango en volksmuziek elkaar raken. Violiste Birthe Blom\, artistiek leider van het festival\, voegt zich bij hen om deze bijzondere muzikale reis compleet te maken. \n\nProgramma: De hand van de Beer\nKlassiek pianiste\, tangoheld en persoonlijke verhalen – het is een bijzondere\, maar vooral inspirerende combinatie. Kraayenhof laat horen dat de melancholieke bandoneón veel meer kan dan zuchten en steunen op het ritme van de tango\, terwijl Petkova haar avontuurlijke kant toont buiten de klassieke comfortzone. \nMet volksmuziek als rode draad vertolken zij werken van onder anderen Scarlatti\, Bach\, Schubert en Piazzolla\, afgewisseld met persoonlijke verhalen. Zo vertellen zij over hun gedeelde fascinatie voor pianist Svjatoslav Richter\, wiens imposante hand ooit de kinderhand van de jonge Petkova omvatte. Kraayenhof componeerde als eerbetoon het werk Ruka na Metchka (Hand van de Beer)\, speciaal opgedragen aan Petkova. \nTijdens dit openingsconcert ontmoeten Birthe Blom en Carel Kraayenhof elkaar opnieuw na hun eerdere succesvolle samenwerking op het festival. Samen met Petkova brengen zij een intens en kleurrijk programma\, waarin alle werken door Kraayenhof en Petkova zelf zijn gearrangeerd. \n\nPraktische informatie\n\nDatum & tijd: Donderdag 6 november 2025\, 20.00 uur\nLocatie: Oosterkerk\, Grote Oost 58\, Hoorn\nBijzonderheden: Eenmaal verkregen toegangsbewijzen kunnen niet worden geruild of gerestitueerd.
URL:https://www.kamermuziekfestivalhoorn.nl/event/openingsconcert-de-hand-van-de-beer/
CATEGORIES:Kamermuziekfestival Hoorn 2025
ATTACH;FMTTYPE=image/jpeg:https://www.kamermuziekfestivalhoorn.nl/wp-content/uploads/carel-en-marietta-2.1280x1280.jpg
END:VEVENT
BEGIN:VEVENT
DTSTART;VALUE=DATE:20251106
DTEND;VALUE=DATE:20251110
DTSTAMP:20260421T122228
CREATED:20250921T083148Z
LAST-MODIFIED:20250929T145220Z
UID:2003-1762387200-1762732799@www.kamermuziekfestivalhoorn.nl
SUMMARY:Passe-Partout – Beleef het hele festival!
DESCRIPTION:Wil je niets missen van het Kamermuziekfestival Hoorn 2025? Met het Passe-Partout heb je toegang tot een zorgvuldig samengestelde selectie van festivalhoogtepunten. Een ideale manier om de veelzijdigheid van ons programma te ervaren – van intieme luistermomenten tot theaterbelevenissen. \nMet het Passe-Partout bezoek je: \n\nOpeningsconcert – De hand van de BeerCarel Kraayenhof\, Mariëtta Petkova en Birthe Blom openen het festival met een bijzondere mix van klassiek\, tango en persoonlijke verhalen.\nLuistercursus – Waar komt muziek vandaan?Carel den Hertog neemt jong en oud mee op een speelse reis door de muziekgeschiedenis.\nTheaterconcert– LIJF!Een elektro-akoestische ode aan het vrouwelijk lichaam door Kayva van Gangelen en Bec Plexus – poëtisch\, krachtig en vernieuwend.\nLate evening ligconcert – Dromen met ChopinOntspan en droom weg bij 14 prachtige nocturnes\, liggend of zittend\, met pianist Maurice Lammerts van Bueren.\nFamilieconcert – PerforatorEen fantasierijk spektakel vol zelfgebouwde instrumenten\, absurdistische muziek en verbeelding – voor jong en oud.\n\nMet deze Passe-Partout krijg je vijf onvergetelijke festivalervaringen voor een aantrekkelijke prijs en dompel je je volledig onder in de veelzijdige wereld van de kamermuziek. \n\nPraktische informatie\n\nElk Passe-Partout is persoonlijk en staat op naam. Daarom vragen we iedere bezoeker om zelf een Passe-Partout te bestellen. Zo zorgen we dat jouw festivalervaring helemaal op jouw naam staat.
URL:https://www.kamermuziekfestivalhoorn.nl/event/passe-partout-beleef-het-hele-festival/
CATEGORIES:Kamermuziekfestival Hoorn 2025
ATTACH;FMTTYPE=image/webp:https://www.kamermuziekfestivalhoorn.nl/wp-content/uploads/Passe-Partouts.webp
END:VEVENT
END:VCALENDAR